BEGIN:VCALENDAR
VERSION:2.0
PRODID:-//Tukios.com/
BEGIN:VEVENT
UID:f4f9a8ac-9af8-4123-981c-d3188b7e9e63@www.legacyfuneralhomeandcremation.com
DTSTAMP:20260423T210038Z
DTSTART:20260429T160000Z
DTEND:20260429T180000Z
SUMMARY:Visitation
DESCRIPTION:
URL:https://www.legacyfuneralhomeandcremation.com/obituaries/james-johnson
LOCATION:Dubose Street Cemetery (Ellisville #2) 1200 Dubose Street  
	Ellisville MS 39437
GEO:31.6016759;-89.2123872
END:VEVENT
END:VCALENDAR