BEGIN:VCALENDAR
VERSION:2.0
PRODID:-//Tukios.com/
BEGIN:VEVENT
UID:49063560-0172-42f4-b3fa-6cdb5ffc2a87@www.legacyfuneralhomeandcremation.com
DTSTAMP:20260423T210409Z
DTSTART:20260429T170000Z
DTEND:20260429T180000Z
SUMMARY:Graveside Service
DESCRIPTION:
URL:https://www.legacyfuneralhomeandcremation.com/obituaries/james-johnson
LOCATION: 1200 Dubose Street  Ellisville MS 39437
GEO:31.6016759;-89.2123872
END:VEVENT
END:VCALENDAR