BEGIN:VCALENDAR
VERSION:2.0
PRODID:-//Tukios.com/
BEGIN:VEVENT
UID:26399f96-2a41-43f0-93b8-49951cfdc8cb@www.legacyfuneralhomeandcremation.com
DTSTAMP:20260422T083433Z
DTSTART:20260425T190000Z
DTEND:20260425T200000Z
SUMMARY:Visitation
DESCRIPTION:
URL:https://www.legacyfuneralhomeandcremation.com/obituaries/jeffrey-grayson
LOCATION:Mount Pleasant Missionary Baptist Church 1360 Mount Pleasant 
	Baptist Church Road  Sandersville MS 39477
GEO:31.7914523;-89.0247133
END:VEVENT
END:VCALENDAR