BEGIN:VCALENDAR
VERSION:2.0
PRODID:-//Tukios.com/
BEGIN:VEVENT
UID:ec2c4d37-37d6-4c11-9c8f-d24edc80b03e@www.legacyfuneralhomeandcremation.com
DTSTAMP:20260422T083631Z
DTSTART:20260425T200000Z
DTEND:20260425T210000Z
SUMMARY:Funeral Service
DESCRIPTION:
URL:https://www.legacyfuneralhomeandcremation.com/obituaries/jeffrey-grayson
LOCATION: 1360 Mount Pleasant Baptist Church Road  Sandersville MS 39477
GEO:31.7914523;-89.0247133
END:VEVENT
END:VCALENDAR