BEGIN:VCALENDAR
VERSION:2.0
PRODID:-//Tukios.com/
BEGIN:VEVENT
UID:0a588172-c7dd-4733-ae32-d70b1cc37d7a@www.legacyfuneralhomeandcremation.com
DTSTAMP:20260422T083531Z
DTSTART:20260425
SUMMARY:Repast
DESCRIPTION:
URL:https://www.legacyfuneralhomeandcremation.com/obituaries/jeffrey-grayson
LOCATION: 1360 Mount Pleasant Baptist Church Road  Sandersville MS 39477
GEO:31.7914523;-89.0247133
END:VEVENT
END:VCALENDAR