BEGIN:VCALENDAR
VERSION:2.0
PRODID:-//Tukios.com/
BEGIN:VEVENT
UID:488963ec-a890-4fe4-9647-dcfaeb69ebf7@www.legacyfuneralhomeandcremation.com
DTSTAMP:20260422T083321Z
DTSTART:20260425T150000Z
DTEND:20260425T160000Z
SUMMARY:Visitation
DESCRIPTION:
URL:https://www.legacyfuneralhomeandcremation.com/obituaries/johnny-mcgill-jr
LOCATION: 1301 N 2nd Ave  Laurel MS 39440
GEO:31.7057541;-89.1271817
END:VEVENT
END:VCALENDAR