BEGIN:VCALENDAR
VERSION:2.0
PRODID:-//Tukios.com/
BEGIN:VEVENT
UID:7525ce87-6a74-40aa-be98-60ae53be1c1d@www.legacyfuneralhomeandcremation.com
DTSTAMP:20260422T083648Z
DTSTART:20260425T160000Z
DTEND:20260425T170000Z
SUMMARY:Funeral Service
DESCRIPTION:
URL:https://www.legacyfuneralhomeandcremation.com/obituaries/johnny-mcgill-jr
LOCATION: 1301 N 2nd Ave  Laurel MS 39440
GEO:31.7057541;-89.1271817
END:VEVENT
END:VCALENDAR