BEGIN:VCALENDAR
VERSION:2.0
PRODID:-//Tukios.com/
BEGIN:VEVENT
UID:763d3277-bf2e-41ec-8aa6-c91fa7bb04a6@www.legacyfuneralhomeandcremation.com
DTSTAMP:20260422T083144Z
DTSTART:20260425
SUMMARY:Interment
DESCRIPTION:
URL:https://www.legacyfuneralhomeandcremation.com/obituaries/johnny-mcgill-jr
LOCATION:Altaire Missionary Baptist Church Cemetery 1297 Vossburg Eucatta 
	Rd  Shubuta MS 39360
GEO:31.7747464;-88.8640775
END:VEVENT
END:VCALENDAR