BEGIN:VCALENDAR
VERSION:2.0
PRODID:-//Tukios.com/
BEGIN:VEVENT
UID:acf3d801-4227-4d0c-a81d-01092cd417c9@www.legacyfuneralhomeandcremation.com
DTSTAMP:20260422T083359Z
DTSTART:20260427T170000Z
DTEND:20260427T180000Z
SUMMARY:Visitation
DESCRIPTION:
URL:https://www.legacyfuneralhomeandcremation.com/obituaries/lorenzo-green
LOCATION:Wesley Chapel AME Church 234 Co Rd 333  Heidelberg MS 39439
GEO:31.844092;-89.0373062
END:VEVENT
END:VCALENDAR