BEGIN:VCALENDAR
VERSION:2.0
PRODID:-//Tukios.com/
BEGIN:VEVENT
UID:f82fce06-7a10-4f1f-a8d0-b87d0a8260e0@www.legacyfuneralhomeandcremation.com
DTSTAMP:20260422T083653Z
DTSTART:20260427T180000Z
DTEND:20260427T190000Z
SUMMARY:Funeral Service
DESCRIPTION:
URL:https://www.legacyfuneralhomeandcremation.com/obituaries/lorenzo-green
LOCATION: 234 Co Rd 333  Heidelberg MS 39439
GEO:31.844092;-89.0373062
END:VEVENT
END:VCALENDAR