BEGIN:VCALENDAR
VERSION:2.0
PRODID:-//Tukios.com/
BEGIN:VEVENT
UID:3fbc4460-2a57-441a-90aa-b120a9b71deb@www.legacyfuneralhomeandcremation.com
DTSTAMP:20260422T083030Z
DTSTART:20260427
SUMMARY:Repast
DESCRIPTION:
URL:https://www.legacyfuneralhomeandcremation.com/obituaries/lorenzo-green
LOCATION:Ebenezer Community Center 3185 CR 8  Heidelberg MS 39439
GEO:31.8861159;-89.0463346
END:VEVENT
END:VCALENDAR